BEGIN:VCALENDAR
VERSION:2.0
PRODID:-//B Lab Africa - ECPv6.15.17.1//NONSGML v1.0//EN
CALSCALE:GREGORIAN
METHOD:PUBLISH
X-WR-CALNAME:B Lab Africa
X-ORIGINAL-URL:https://b-labafrica.net
X-WR-CALDESC:Events for B Lab Africa
REFRESH-INTERVAL;VALUE=DURATION:PT1H
X-Robots-Tag:noindex
X-PUBLISHED-TTL:PT1H
BEGIN:VTIMEZONE
TZID:UTC
BEGIN:STANDARD
TZOFFSETFROM:+0000
TZOFFSETTO:+0000
TZNAME:UTC
DTSTART:20230101T000000
END:STANDARD
END:VTIMEZONE
BEGIN:VEVENT
DTSTART;TZID=UTC:20240904T080000
DTEND;TZID=UTC:20240905T180000
DTSTAMP:20260421T143711
CREATED:20240421T140740Z
LAST-MODIFIED:20240910T125715Z
UID:239420-1725436800-1725559200@b-labafrica.net
SUMMARY:B LAB AFRICA SUMMIT 2024
DESCRIPTION:
URL:https://b-labafrica.net/event/b-lab-africa-summit-2024/
CATEGORIES:Our events
ORGANIZER;CN="B Lab Africa":MAILTO:summit@b-labafrica.net
END:VEVENT
BEGIN:VEVENT
DTSTART;VALUE=DATE:20240515
DTEND;VALUE=DATE:20240516
DTSTAMP:20260421T143711
CREATED:20240421T140456Z
LAST-MODIFIED:20240422T165239Z
UID:239418-1715731200-1715817599@b-labafrica.net
SUMMARY:THE B LAB AFRICA & DANONE EGYPT’S\, BUSINESS ADVANCEMENT FORUM
DESCRIPTION:
URL:https://b-labafrica.net/event/the-b-lab-africa-danone-egypts-business-advancement-forum/
CATEGORIES:Our events
END:VEVENT
END:VCALENDAR